BEGIN:VCALENDAR
VERSION:2.0
PRODID:-//CGP//NONSGML kigkonsult.se iCalcreator 2.16.12//
METHOD:PUBLISH
X-MS-OLK-FORCEINSPECTOROPEN:TRUE
BEGIN:VEVENT
UID:20260421T102655CEST-1233vMjnU2@CGP
DTSTAMP:20260421T082655Z
DESCRIPTION:
DTSTART:20240914T000000
DTEND:20240915T235900
ORGANIZER:MAILTO:CGP <webmaster@cgp-hamburg.de>
SUMMARY:Probe
END:VEVENT
END:VCALENDAR
