BEGIN:VCALENDAR
VERSION:2.0
PRODID:-//CGP//NONSGML kigkonsult.se iCalcreator 2.16.12//
METHOD:PUBLISH
X-MS-OLK-FORCEINSPECTOROPEN:TRUE
BEGIN:VEVENT
UID:20260420T095748CEST-36544XvSd4@CGP
DTSTAMP:20260420T075748Z
DESCRIPTION:
DTSTART:20240705T000000
DTEND:20240707T235900
ORGANIZER:MAILTO:CGP <webmaster@cgp-hamburg.de>
SUMMARY:Präventions-Seminar
END:VEVENT
END:VCALENDAR
